BEGIN:VCALENDAR
VERSION:2.0
PRODID:-//Royal Prince Edward Yacht Club - ECPv6.15.0//NONSGML v1.0//EN
CALSCALE:GREGORIAN
METHOD:PUBLISH
X-ORIGINAL-URL:https://rpeyc.com.au
X-WR-CALDESC:Events for Royal Prince Edward Yacht Club
REFRESH-INTERVAL;VALUE=DURATION:PT1H
X-Robots-Tag:noindex
X-PUBLISHED-TTL:PT1H
BEGIN:VTIMEZONE
TZID:Australia/Sydney
BEGIN:STANDARD
TZOFFSETFROM:+1100
TZOFFSETTO:+1000
TZNAME:AEST
DTSTART:20230401T160000
END:STANDARD
BEGIN:DAYLIGHT
TZOFFSETFROM:+1000
TZOFFSETTO:+1100
TZNAME:AEDT
DTSTART:20230930T160000
END:DAYLIGHT
BEGIN:STANDARD
TZOFFSETFROM:+1100
TZOFFSETTO:+1000
TZNAME:AEST
DTSTART:20240406T160000
END:STANDARD
BEGIN:DAYLIGHT
TZOFFSETFROM:+1000
TZOFFSETTO:+1100
TZNAME:AEDT
DTSTART:20241005T160000
END:DAYLIGHT
BEGIN:STANDARD
TZOFFSETFROM:+1100
TZOFFSETTO:+1000
TZNAME:AEST
DTSTART:20250405T160000
END:STANDARD
BEGIN:DAYLIGHT
TZOFFSETFROM:+1000
TZOFFSETTO:+1100
TZNAME:AEDT
DTSTART:20251004T160000
END:DAYLIGHT
END:VTIMEZONE
BEGIN:VEVENT
DTSTART;TZID=Australia/Sydney:20250312T183000
DTEND;TZID=Australia/Sydney:20250312T213000
DTSTAMP:20260425T033628
CREATED:20250210T223909Z
LAST-MODIFIED:20250210T224552Z
UID:5126-1741804200-1741815000@rpeyc.com.au
SUMMARY:Dinner & Legend Conversations
DESCRIPTION:DINNER FOLLOWED BY TALK AND CONVERSATION BY YACHTING LEGENDS\nAND YOUNG TALENTS \nGRANT SIMMER\nALICE PARKER\nPETER SHIPWAY \n6:30PM DRINKS & CANAPÉS\n7PM SIT DOWN DINNER (MAIN COURSE & PETIT FOURS)\n7:30PM – SPEAKERS \nGo to Book a Table Book a Table | Royal Prince Edward Yacht Club | Point Piper Sydney to book your space \n*individual bookings will be seated at a shared member table
URL:https://rpeyc.com.au/calendar/dinner-legend-conversations/
CATEGORIES:Club,Sailing,Social
ATTACH;FMTTYPE=image/png:https://rpeyc.com.au/wp-content/uploads/2025/02/12.03-Dinner-Talk.png
END:VEVENT
BEGIN:VEVENT
DTSTART;TZID=Australia/Sydney:20241212T180000
DTEND;TZID=Australia/Sydney:20241212T210000
DTSTAMP:20260425T033628
CREATED:20240202T061130Z
LAST-MODIFIED:20241111T013346Z
UID:4580-1734026400-1734037200@rpeyc.com.au
SUMMARY:Club Members Christmas Cocktail Party - SAVE THE DATE
DESCRIPTION:$79pp including arrival drink and canapes \n630pm \nBOOK HERE: \nRPEYC Christmas Cocktail Party Tickets\, Royal Prince Edward Yacht Club\, Point Piper | TryBooking Australia
URL:https://rpeyc.com.au/calendar/club-members-christmas-cocktail-party-save-the-date/
LOCATION:RPEYC Dining Room\, 160 Wolseley Rd\, Point Piper\, NSW\, 2027\, Australia
CATEGORIES:Club,Social
ATTACH;FMTTYPE=image/jpeg:https://rpeyc.com.au/wp-content/uploads/2024/02/XMAS-PARTY-scaled.jpg
ORGANIZER;CN="RPEYC":MAILTO:catering@rpeyc.com.au
END:VEVENT
BEGIN:VEVENT
DTSTART;TZID=Australia/Sydney:20241208T100000
DTEND;TZID=Australia/Sydney:20241208T120000
DTSTAMP:20260425T033628
CREATED:20240202T053735Z
LAST-MODIFIED:20241015T045648Z
UID:4545-1733652000-1733659200@rpeyc.com.au
SUMMARY:Children’s Christmas Party - REGISTER & SAVE THE DATE
DESCRIPTION:Sunday 8th December 2024\, 10am – 12 noon.\n\nJoin us for the RPEYC Children’s Christmas Party 2024.\nSunday 8th December 2024\, 10am – 12 noon. \n\nRegister your interest and number of children by completing the form below. \nPlease email the form to:\n\nDownload the form here\n 
URL:https://rpeyc.com.au/calendar/childrens-christmas-party-register-save-the-date/
CATEGORIES:Club,Social
ATTACH;FMTTYPE=image/jpeg:https://rpeyc.com.au/wp-content/uploads/2024/02/xmas-santa-scaled.jpg
ORGANIZER;CN="RPEYC":MAILTO:catering@rpeyc.com.au
END:VEVENT
BEGIN:VEVENT
DTSTART;TZID=Australia/Sydney:20241007T110000
DTEND;TZID=Australia/Sydney:20241007T200000
DTSTAMP:20260425T033628
CREATED:20240202T053143Z
LAST-MODIFIED:20240202T053143Z
UID:4547-1728298800-1728331200@rpeyc.com.au
SUMMARY:Public Holiday - Labour Day - Club Open
DESCRIPTION:
URL:https://rpeyc.com.au/calendar/public-holiday-labour-day-club-open-2/
CATEGORIES:Club,Dining
END:VEVENT
BEGIN:VEVENT
DTSTART;TZID=Australia/Sydney:20240901T110000
DTEND;TZID=Australia/Sydney:20240901T190000
DTSTAMP:20260425T033628
CREATED:20240202T063131Z
LAST-MODIFIED:20240808T004032Z
UID:4600-1725188400-1725217200@rpeyc.com.au
SUMMARY:Fathers Day - Book Now!
DESCRIPTION:Reserve your table now for Mothers Day – 1 of only 2 days during the year where Children under 18 are permitted in the Dining Room \nSet Menu \n1 table per member
URL:https://rpeyc.com.au/calendar/fathers-day-save-the-date/
CATEGORIES:Club,Dining
ATTACH;FMTTYPE=image/jpeg:https://rpeyc.com.au/wp-content/uploads/2024/02/fathers.jpg
END:VEVENT
BEGIN:VEVENT
DTSTART;TZID=Australia/Sydney:20240824T123000
DTEND;TZID=Australia/Sydney:20240824T163000
DTSTAMP:20260425T033628
CREATED:20240202T053421Z
LAST-MODIFIED:20240808T003953Z
UID:4550-1724502600-1724517000@rpeyc.com.au
SUMMARY:RPEYC Ladies Lunch - 24th August postponed - new date to be confirmed
DESCRIPTION:Ladies Lunch for all women members – Save the Date – 24th August\nWith a large female membership\, all women members are encouraged to come and enjoy the Club’s Ladies’ lunch together.\n\nUnfortunately\, the date of 24th August has been postponed – keep an eye out for the new date to be confirmed.\n\nRegister your interest with catering@rpeyc.com.au\n\nMore details to come\n  \n  \n 
URL:https://rpeyc.com.au/calendar/rpeyc-ladies-lunch-save-the-date/
CATEGORIES:Club
ATTACH;FMTTYPE=image/jpeg:https://rpeyc.com.au/wp-content/uploads/2023/08/RPEYC-Ladies-Lunch-2023.jpg
END:VEVENT
BEGIN:VEVENT
DTSTART;TZID=Australia/Sydney:20240610T110000
DTEND;TZID=Australia/Sydney:20240610T190000
DTSTAMP:20260425T033628
CREATED:20240202T053633Z
LAST-MODIFIED:20240202T053633Z
UID:4552-1718017200-1718046000@rpeyc.com.au
SUMMARY:Public Holiday - King's Birthday - Club Open
DESCRIPTION:
URL:https://rpeyc.com.au/calendar/public-holiday-kings-birthday-club-open/
CATEGORIES:Club,Dining
END:VEVENT
BEGIN:VEVENT
DTSTART;TZID=Australia/Sydney:20240315T180300
DTEND;TZID=Australia/Sydney:20240315T220000
DTSTAMP:20260425T033628
CREATED:20240212T051404Z
LAST-MODIFIED:20240214T030421Z
UID:4621-1710525780-1710540000@rpeyc.com.au
SUMMARY:Young Members Summer Soiree - click link below to book
DESCRIPTION:RPEYC Young Members Summer Soiree \nFriday 15 March 2024 \n6.30 – 10pm \n$130pp drinks and canapes including $20 donation to Making Waves charity \nClick here to book
URL:https://rpeyc.com.au/calendar/young-members-summer-soiree-save-the-date/
CATEGORIES:Club,Social
ATTACH;FMTTYPE=image/jpeg:https://rpeyc.com.au/wp-content/uploads/2024/02/young-members-soiree.jpg
END:VEVENT
BEGIN:VEVENT
DTSTART;TZID=Australia/Sydney:20231210T100000
DTEND;TZID=Australia/Sydney:20231210T120000
DTSTAMP:20260425T033628
CREATED:20230816T234819Z
LAST-MODIFIED:20230817T055044Z
UID:4359-1702202400-1702209600@rpeyc.com.au
SUMMARY:Children’s Christmas Party
DESCRIPTION:Join us for the RPEYC Children’s Christmas Party.\nSunday 10th December\, 10am – 12 noon.
URL:https://rpeyc.com.au/calendar/childrens-christmas-party/
CATEGORIES:Club,Social
ATTACH;FMTTYPE=image/jpeg:https://rpeyc.com.au/wp-content/uploads/2023/08/RPEYC-kids-party.jpg
ORGANIZER;CN="RPEYC":MAILTO:catering@rpeyc.com.au
END:VEVENT
BEGIN:VEVENT
DTSTART;TZID=Australia/Sydney:20231209T180000
DTEND;TZID=Australia/Sydney:20231209T210000
DTSTAMP:20260425T033628
CREATED:20230816T232431Z
LAST-MODIFIED:20231127T002953Z
UID:4356-1702144800-1702155600@rpeyc.com.au
SUMMARY:Club Christmas Cocktail Party: Book here
DESCRIPTION:Click here to book \n\nABOUT\nCelebrate the festive season with fellow members and guests at the Royal Prince Edward Yacht Club on Saturday 9th December at 6pm.\nCocktails\, Canapes\, Carols and Cheer. \n\nDATE\nSaturday 9 December 2023 6:00 PM – 9:00 PM (UTC+11) \n\nPRICE\n$65 per person. Guests welcome.  \n\nLOCATION\nRoyal Prince Edward Yacht Club\n160 Wolseley Rd\, Point Piper NSW 2027 \nClick here to book
URL:https://rpeyc.com.au/calendar/club-christmas-cocktail-party/
LOCATION:RPEYC Dining Room\, 160 Wolseley Rd\, Point Piper\, NSW\, 2027\, Australia
CATEGORIES:Club,Social
ATTACH;FMTTYPE=image/jpeg:https://rpeyc.com.au/wp-content/uploads/2023/08/RPEYC-Club-Christmas-cocktail-party.jpg
ORGANIZER;CN="RPEYC":MAILTO:catering@rpeyc.com.au
END:VEVENT
BEGIN:VEVENT
DTSTART;TZID=Australia/Sydney:20231018T180000
DTEND;TZID=Australia/Sydney:20231018T193000
DTSTAMP:20260425T033628
CREATED:20230915T071600Z
LAST-MODIFIED:20230915T085451Z
UID:4391-1697652000-1697657400@rpeyc.com.au
SUMMARY:Join John Bertrand AO & Olympian Olivia Price for Team Australia Challenge Reception
DESCRIPTION:Book by October 16th – click the link below to book:\nBook now\n\n \n 
URL:https://rpeyc.com.au/calendar/join-john-bertrand-ao-olympian-olivia-price-for-team-australia-challenge-reception/
CATEGORIES:Club
ATTACH;FMTTYPE=image/jpeg:https://rpeyc.com.au/wp-content/uploads/2023/09/Team-challenge-event.jpg
ORGANIZER;CN="RPEYC":MAILTO:catering@rpeyc.com.au
END:VEVENT
BEGIN:VEVENT
DTSTART;TZID=Australia/Sydney:20231014T123000
DTEND;TZID=Australia/Sydney:20231014T163000
DTSTAMP:20260425T033628
CREATED:20230803T042010Z
LAST-MODIFIED:20230822T031145Z
UID:4316-1697286600-1697301000@rpeyc.com.au
SUMMARY:Ladies Lunch
DESCRIPTION:Ladies Lunch for all women members.\nWith a large female membership\, all women members are encouraged to come and enjoy the Club’s\nLadies’ lunch together on Saturday 14th October. Louise Cantillon\, The British Consul General Sydney and Deputy Trade Commissioner Asia Pacific – Australia & NZ\, will be the Guest of Honour and speaker.\n$65 per person for canapés\, arrival drink\, sit down main course and desert.\n\nPlease click the link to make a booking: \nMake a booking\n  \nOTHER DATES TO SAVE:\n 
URL:https://rpeyc.com.au/calendar/ladies-lunch/
CATEGORIES:Club
ATTACH;FMTTYPE=image/jpeg:https://rpeyc.com.au/wp-content/uploads/2023/08/RPEYC-Ladies-Lunch-2023.jpg
END:VEVENT
BEGIN:VEVENT
DTSTART;TZID=Australia/Sydney:20230902T150000
DTEND;TZID=Australia/Sydney:20230902T180000
DTSTAMP:20260425T033628
CREATED:20240202T055517Z
LAST-MODIFIED:20240202T055517Z
UID:4570-1693666800-1693677600@rpeyc.com.au
SUMMARY:Spring Into Summer Garden Party/2024 Centenary Celebration - SAVE THE DATE
DESCRIPTION:Event across the whole Club for all members and their guests to celebrate 100 years of RPEYC Clubhouse. \n 
URL:https://rpeyc.com.au/calendar/spring-into-summer-garden-party-2024-centenary-celebration-save-the-date/
CATEGORIES:Club
ATTACH;FMTTYPE=image/jpeg:https://rpeyc.com.au/wp-content/uploads/2021/04/201119_GIRVANGROUP_RPEYC_0006-2.jpg
END:VEVENT
BEGIN:VEVENT
DTSTART;TZID=Australia/Sydney:20230902T150000
DTEND;TZID=Australia/Sydney:20230902T180000
DTSTAMP:20260425T033628
CREATED:20230803T041542Z
LAST-MODIFIED:20230816T033539Z
UID:4313-1693666800-1693677600@rpeyc.com.au
SUMMARY:Spring Into Summer Garden Party
DESCRIPTION:Spring Into Summer Garden Party On Club Lawns for all members and their guests. Live Music\, Bar\, Food Stations \n$55pp Adults\, $15pp Child including food; Cash bar \nFamilies and friends welcome \n3pm-6pm \nPlease click the link below to make a booking: \nMake a booking
URL:https://rpeyc.com.au/calendar/save-the-date-spring-into-summer-garden-party/
CATEGORIES:Club
ATTACH;FMTTYPE=image/png:https://rpeyc.com.au/wp-content/uploads/2023/08/gRDEN-PARTU.png
END:VEVENT
END:VCALENDAR